BEGIN:VCALENDAR
VERSION:2.0
PRODID:-//BACES - ECPv6.15.20//NONSGML v1.0//EN
CALSCALE:GREGORIAN
METHOD:PUBLISH
X-WR-CALNAME:BACES
X-ORIGINAL-URL:https://www.baces.org
X-WR-CALDESC:Events for BACES
REFRESH-INTERVAL;VALUE=DURATION:PT1H
X-Robots-Tag:noindex
X-PUBLISHED-TTL:PT1H
BEGIN:VTIMEZONE
TZID:America/Los_Angeles
BEGIN:DAYLIGHT
TZOFFSETFROM:-0800
TZOFFSETTO:-0700
TZNAME:PDT
DTSTART:20230312T100000
END:DAYLIGHT
BEGIN:STANDARD
TZOFFSETFROM:-0700
TZOFFSETTO:-0800
TZNAME:PST
DTSTART:20231105T090000
END:STANDARD
BEGIN:DAYLIGHT
TZOFFSETFROM:-0800
TZOFFSETTO:-0700
TZNAME:PDT
DTSTART:20240310T100000
END:DAYLIGHT
BEGIN:STANDARD
TZOFFSETFROM:-0700
TZOFFSETTO:-0800
TZNAME:PST
DTSTART:20241103T090000
END:STANDARD
BEGIN:DAYLIGHT
TZOFFSETFROM:-0800
TZOFFSETTO:-0700
TZNAME:PDT
DTSTART:20250309T100000
END:DAYLIGHT
BEGIN:STANDARD
TZOFFSETFROM:-0700
TZOFFSETTO:-0800
TZNAME:PST
DTSTART:20251102T090000
END:STANDARD
BEGIN:DAYLIGHT
TZOFFSETFROM:-0800
TZOFFSETTO:-0700
TZNAME:PDT
DTSTART:20260308T100000
END:DAYLIGHT
BEGIN:STANDARD
TZOFFSETFROM:-0700
TZOFFSETTO:-0800
TZNAME:PST
DTSTART:20261101T090000
END:STANDARD
BEGIN:DAYLIGHT
TZOFFSETFROM:-0800
TZOFFSETTO:-0700
TZNAME:PDT
DTSTART:20270314T100000
END:DAYLIGHT
BEGIN:STANDARD
TZOFFSETFROM:-0700
TZOFFSETTO:-0800
TZNAME:PST
DTSTART:20271107T090000
END:STANDARD
END:VTIMEZONE
BEGIN:VEVENT
DTSTART;TZID=America/Los_Angeles:20260321T190000
DTEND;TZID=America/Los_Angeles:20260321T213000
DTSTAMP:20260419T222145
CREATED:20260318T221753Z
LAST-MODIFIED:20260318T221753Z
UID:888-1774119600-1774128600@www.baces.org
SUMMARY:BACES ПРЕДСТАВЯ ЛОС АНДЖЕЛИС ПРЕМИЕРАТА НА "БРЪНЧ ЗА НАЧИНАЕЩИ"
DESCRIPTION:Нова българска комедия – за любовта\, приятелствата и разговорите\, които тръгват невинно… и завършват неочаквано. \n„Брънч за начинаещи“ е комедия за съвременното ежедневие\, в което балансът между амбиции\, семейство и хармония често изглежда невъзможен. Филм\, който преподава номер едно урок в кухнята на живота: най-ключовата съставка за щастие са хората\, с които споделяш преживяването. \nСлед успешните „Диада“ и „Доза щастие“ талантливата режисьорка Яна Титова се завръща с нов пълнометражен филм\, който обещава да разсмее зрителите с комичните си ситуации и топъл сюжет. \nВ „Брънч за начинаещи“ зрителите ще видят Александра Сърчаджиева\, Орлин Павлов\, Валентина Каролева\, Стилиян Стоянов\, Ая Алексиев и Алина Данчева\, а Стоян Дойчев и Стефан Вълдобрев добавят щипка пиперливост. Музиката е дело на любимия Владимир Ампов – Графа. \nТрейлър: https://youtu.be/j7wC-4h1tys?si=Tz16xE9bvFvg5HKk \nБилети в линка: https://www.eventbrite.com/e/-los-angelesca-tickets-1984337018439?aff=oddtdtcreator
URL:https://www.baces.org/event/baces-%d0%bf%d1%80%d0%b5%d0%b4%d1%81%d1%82%d0%b0%d0%b2%d1%8f-%d0%bb%d0%be%d1%81-%d0%b0%d0%bd%d0%b4%d0%b6%d0%b5%d0%bb%d0%b8%d1%81-%d0%bf%d1%80%d0%b5%d0%bc%d0%b8%d0%b5%d1%80%d0%b0%d1%82%d0%b0-%d0%bd/
LOCATION:Stephanie Feury Studio Theatre\, 5636 Melrose Avenue\, Los Angeles\, CA\, 90038\, United States
ORGANIZER;CN="BACES":MAILTO:contact@baces.org
END:VEVENT
BEGIN:VEVENT
DTSTART;TZID=America/Los_Angeles:20260207T183000
DTEND;TZID=America/Los_Angeles:20260207T210000
DTSTAMP:20260419T222145
CREATED:20260116T193845Z
LAST-MODIFIED:20260116T193845Z
UID:883-1770489000-1770498000@www.baces.org
SUMMARY:"ЕДИН ГРАМ ЖИВОТ" - КИНО ПРЕМИЕРА В ОРИНДЖ КАУНТИ
DESCRIPTION:„Един грам живот“ – Филм\, който не се гледа. Той се преживява.\n\nПо действителни събития. Историята\, която разплака дори президента. История за крехкото детство. За тихите опасностите. За семейството като първа и последна защита. \n\nФилм\, който разтърсва. Филм\, който отваря очи. Филм\, който може да промени избори. Филм\, който може да спаси живот. “Един грам живот” не е просто филм. Това е мисия. \n\nYoutube trailer link: https://www.youtube.com/watch?v=oueoJ9oZkL4
URL:https://www.baces.org/event/%d0%b5%d0%b4%d0%b8%d0%bd-%d0%b3%d1%80%d0%b0%d0%bc-%d0%b6%d0%b8%d0%b2%d0%be%d1%82-%d0%ba%d0%b8%d0%bd%d0%be-%d0%bf%d1%80%d0%b5%d0%bc%d0%b8%d0%b5%d1%80%d0%b0-%d0%b2-%d0%be%d1%80%d0%b8%d0%bd%d0%b4/
LOCATION:Lyceum Village\, 14281 Chambers Rd\, Tustin\, 92780\, United States
END:VEVENT
BEGIN:VEVENT
DTSTART;TZID=America/Los_Angeles:20260131T183000
DTEND;TZID=America/Los_Angeles:20260131T210000
DTSTAMP:20260419T222145
CREATED:20260116T192949Z
LAST-MODIFIED:20260116T192949Z
UID:876-1769884200-1769893200@www.baces.org
SUMMARY:"ЕДИН ГРАМ ЖИВОТ" - КИНО ПРЕМИЕРА В ЛОС АНДЖЕЛИС
DESCRIPTION:„Един грам живот“ – Филм\, който не се гледа. Той се преживява.\n\nПо действителни събития. Историята\, която разплака дори президента. История за крехкото детство. За тихите опасностите. За семейството като първа и последна защита. \n\nФилм\, който разтърсва. Филм\, който отваря очи. Филм\, който може да промени избори. Филм\, който може да спаси живот. “Един грам живот” не е просто филм. Това е мисия. \n\nYoutube trailer link: https://www.youtube.com/watch?v=oueoJ9oZkL4 \n\nБилети в линка: https://www.eventbrite.co/e/1979022229763?aff=oddtdtcreator
URL:https://www.baces.org/event/%d0%b5%d0%b4%d0%b8%d0%bd-%d0%b3%d1%80%d0%b0%d0%bc-%d0%b6%d0%b8%d0%b2%d0%be%d1%82-%d0%ba%d0%b8%d0%bd%d0%be-%d0%bf%d1%80%d0%b5%d0%bc%d0%b8%d0%b5%d1%80%d0%b0-%d0%b2-%d0%bb%d0%be%d1%81-%d0%b0%d0%bd/
LOCATION:After School Conservatory (the name of the venue)\, 23012 Ventura Blvd.\, Woodland Hills\, CA\, 91364\, United States
ORGANIZER;CN="BACES":MAILTO:contact@baces.org
END:VEVENT
BEGIN:VEVENT
DTSTART;TZID=America/Los_Angeles:20251220T203000
DTEND;TZID=America/Los_Angeles:20251221T013000
DTSTAMP:20260419T222145
CREATED:20251203T214905Z
LAST-MODIFIED:20251203T214905Z
UID:870-1766262600-1766280600@www.baces.org
SUMMARY:BACES HOLIDAY PARTY
DESCRIPTION:BACES is hosting a a Balkan-Style Holiday Party and everyone is invited.  \n \n 
URL:https://www.baces.org/event/baces-holiday-party/
LOCATION:Rockwell Lounge\, 5413 W Adams Blvd\, Los Angeles\, CA\, 90016\, United States
ORGANIZER;CN="BACES":MAILTO:contact@baces.org
END:VEVENT
BEGIN:VEVENT
DTSTART;TZID=America/Los_Angeles:20251213T110000
DTEND;TZID=America/Los_Angeles:20251213T150000
DTSTAMP:20260419T222145
CREATED:20251203T214115Z
LAST-MODIFIED:20251203T214115Z
UID:865-1765623600-1765638000@www.baces.org
SUMMARY:Christmas in Los Angeles
DESCRIPTION:On December 13\, 2025\, the Bulgarian School in Los Angeles will host their annual Christmas Celebration. More information can be found on the event’s website.
URL:https://www.baces.org/event/christmas-in-los-angeles/
LOCATION:Teen Center\, 4153 Overland Ave.\, Culver City\, CA\, 90230\, United States
END:VEVENT
BEGIN:VEVENT
DTSTART;TZID=America/Los_Angeles:20251207T180000
DTEND;TZID=America/Los_Angeles:20251207T203000
DTSTAMP:20260419T222145
CREATED:20251203T213216Z
LAST-MODIFIED:20251203T213216Z
UID:859-1765130400-1765139400@www.baces.org
SUMMARY:"Eastern Western" Movie Screening
DESCRIPTION:This film by the NYC-based Bulgarian sisters’ duo of Biliana & Marina Grozdanovi\, is a coming-to-America story that features a Bosnian as the main character\, as he makes a new life for himself and his son in the American West of the late 1800s. The film has screened at over a dozen film festivals\, including this year’s Sofia International Film Festival in Bulgaria\, and finally\, is coming to LA\, don’t miss out.
URL:https://www.baces.org/event/eastern-western-movie-screening/
LOCATION:Lumiere Music Hall\, 9036 Wilshire Blvd\, Beverly Hills\, CA\, 90211\, United States
END:VEVENT
BEGIN:VEVENT
DTSTART;TZID=America/Los_Angeles:20250531T180000
DTEND;TZID=America/Los_Angeles:20250531T203000
DTSTAMP:20260419T222145
CREATED:20250510T032837Z
LAST-MODIFIED:20250510T032837Z
UID:843-1748714400-1748723400@www.baces.org
SUMMARY:МИЛЕН – Кино Премиера в Лос Анджелис
DESCRIPTION:Да не се уморяваш да задаваш неудобни въпроси дори и на най-неудобните хора. Милен Цветков не се притесняваше да го прави\, при това не само в името на високите рейтинги. Филмът за големия ни журналист\, от създателите на “Моралът е доброто”\, продължава да се радва на огромен интерес. Премиерата в Лос Анджелис на МИЛЕН – Документален филм е на 31 май\, събота от 18:00\, организирана в съвместно сътрудничество на ПЧЕЛА и БАКОД за българската общност в Южна Калифорния.
URL:https://www.baces.org/event/%d0%bc%d0%b8%d0%bb%d0%b5%d0%bd-%d0%ba%d0%b8%d0%bd%d0%be-%d0%bf%d1%80%d0%b5%d0%bc%d0%b8%d0%b5%d1%80%d0%b0-%d0%b2-%d0%bb%d0%be%d1%81-%d0%b0%d0%bd%d0%b4%d0%b6%d0%b5%d0%bb%d0%b8%d1%81-2/
LOCATION:Sherman Oaks\, 14366 Ventura Blvd\, Sherman Oaks\, CA\, 91423\, United States
END:VEVENT
BEGIN:VEVENT
DTSTART;TZID=America/Los_Angeles:20250511T173000
DTEND;TZID=America/Los_Angeles:20250511T193000
DTSTAMP:20260419T222145
CREATED:20250510T030538Z
LAST-MODIFIED:20250510T030538Z
UID:836-1746984600-1746991800@www.baces.org
SUMMARY:Wladigeroff Brothers In Los Angeles
DESCRIPTION:Coming straight from Vienna\, yet carrying the strong influence of their Bulgarian DNA\, the genius twins\, Wladigeroff Brothers\, have decided to include Los Angeles in their “Jazz Sketches” 2025 North American Tour!\nThe concert performances of the two brothers are a living retrospect of music created over 120 years – by three different generations\, who drew experience and inspiration from the wealth of Bulgarian folklore\, which they have largely succeeded in developing in recent years into an effective and creative form of the so-called world eclectic style in the realms or “Balkan jazz”. For more information about the event press here.
URL:https://www.baces.org/event/wladigeroff-brothers-in-los-angeles/
LOCATION:Herb Alpert Music Center\, 4301 Monroe Street\, Los Angeles\, CA\, 90029\, United States
END:VEVENT
BEGIN:VEVENT
DTSTART;TZID=America/Los_Angeles:20250510T180000
DTEND;TZID=America/Los_Angeles:20250510T210000
DTSTAMP:20260419T222145
CREATED:20250425T014421Z
LAST-MODIFIED:20250510T025413Z
UID:823-1746900000-1746910800@www.baces.org
SUMMARY:МИЛЕН – Кино Премиера в Ориндж Каунти
DESCRIPTION:Да не се уморяваш да задаваш неудобни въпроси дори и на най-неудобните хора. Милен Цветков не се притесняваше да го прави\, при това не само в името на високите рейтинги. Филмът за големия ни журналист\, от създателите на “Моралът е доброто”\, продължава да се радва на огромен интерес. Премиерата в Ориндж Каунти на МИЛЕН – Документален филм се организирана в съвместно сътрудничество на ПЧЕЛА и БАКОД за българската общност в Южна Калифорния. Билети може да закупите тук.
URL:https://www.baces.org/event/%d0%bc%d0%b8%d0%bb%d0%b5%d0%bd-%d0%ba%d0%b8%d0%bd%d0%be-%d0%bf%d1%80%d0%b5%d0%bc%d0%b8%d0%b5%d1%80%d0%b0-%d0%b2-%d0%bb%d0%be%d1%81-%d0%b0%d0%bd%d0%b4%d0%b6%d0%b5%d0%bb%d0%b8%d1%81/
LOCATION:Lyceum Village\, 14281 Chambers Rd\, Tustin\, 92780\, United States
END:VEVENT
BEGIN:VEVENT
DTSTART;TZID=America/Los_Angeles:20250504T120000
DTEND;TZID=America/Los_Angeles:20250504T163000
DTSTAMP:20260419T222145
CREATED:20250313T212726Z
LAST-MODIFIED:20250425T013135Z
UID:806-1746360000-1746376200@www.baces.org
SUMMARY:СЪБОР ЗА ГЕРГЬОВДЕН/ SAINT GEORGE'S DAY CELEBRATION
DESCRIPTION:BACES is inviting everyone to join us on May 4\, 2025\, for a community celebration of St. George’s Day. Bring your family and friends and enjoy a fantastic day filled with music\, dancing\, delicious traditional Bulgarian dishes\, and lots of great activities for young and old. \nIf you would like to volunteer at the event\, please sign up using the form below: https://form.jotform.com/251115116727147 \nThe location of the event is: Cheviot Hills Park\, Picnic Area #1\, 2551 Motor Ave.\, LA\, CA 90064
URL:https://www.baces.org/event/%d1%81%d1%8a%d0%b1%d0%be%d1%80-%d0%b7%d0%b0-%d0%b3%d0%b5%d1%80%d0%b3%d1%8c%d0%be%d0%b2%d0%b4%d0%b5%d0%bd-saint-georges-day-celebration/
LOCATION:Cheviot Hills Park\, 2551 Motor Ave\, Los Angeles\, CA\, 90064
ORGANIZER;CN="BACES":MAILTO:contact@baces.org
END:VEVENT
BEGIN:VEVENT
DTSTART;TZID=America/Los_Angeles:20250405T180000
DTEND;TZID=America/Los_Angeles:20250405T213000
DTSTAMP:20260419T222145
CREATED:20250312T030404Z
LAST-MODIFIED:20250313T003226Z
UID:785-1743876000-1743888600@www.baces.org
SUMMARY:"BECAUSE I LOVE BAD WEATHER" MOVIE PREMIERE
DESCRIPTION:BACES presents the Los Angeles premiere of “Because I Love Bad Weather”. The movie tells the story of Irina and Boris\, friends\, who had not seen each other for over 20 years\, and who accidentally\, find themselves at the same time in the small seaside town\, where they used to spend their childhood summers together. In the movie\, love\, family secrets\, and a lot of comedic moments intertwine in a very human\, beautiful\, and bright story\, with subtle messages that will make even the biggest skeptics love bad weather. \nThe cast includes Neda Spasova\, Vladimir Mihailov\, Eleni Dekidis\, Boryana Puncheva\, Veselin Rankov\, and Ivan Barnev. \n“Because I Love Bad Weather” has been featured in numerous festivals\, including: \n\n28th Sofia International Film Festival – International Competition Section\, Audience Award\n26th Seoul International Women’s Film Festival – Discovery Competition Section\n20th CINEFEST – Miskolc International Film Festival – East of Europe Competition Section\n42nd Bulgarian Feature Film Festival Golden Rose – Best Debut Award\n\nThe trailer to the movie can be seen here.
URL:https://www.baces.org/event/because-i-love-bad-weather-movie-premiere/
LOCATION:After School Conservatory (the name of the venue)\, 23012 Ventura Blvd.\, Woodland Hills\, CA\, 91364\, United States
ORGANIZER;CN="BACES":MAILTO:contact@baces.org
END:VEVENT
BEGIN:VEVENT
DTSTART;TZID=America/Los_Angeles:20250323T150000
DTEND;TZID=America/Los_Angeles:20250323T180000
DTSTAMP:20260419T222145
CREATED:20250301T015427Z
LAST-MODIFIED:20250301T015427Z
UID:770-1742742000-1742752800@www.baces.org
SUMMARY:“НЕ ЗАТВАРЯЙ ОЧИ” - КИНО ПРЕМИЕРА В ЛОС АНДЖЕЛИС
DESCRIPTION:“Не затваряй очи“ – най-гледаният български филм три поредни седмици в българските кина. \nПремиера в Лос Анджелис и среща с продуцента Богдан Дарев. \n“Не затваряй очи“ бе представен в официалната програма на фестивала „Златна роза“. Нарежда се сред финалистите на престижния ICVM Crown Awards за християнско независимо кино. В „Лондон Филм Фестивал“ филмът е номиниран в категориите за най-добър монтаж в чуждоезичен филм; най-добър режисьор в чуждоезичен филм – Николай Егерман; най-добър чуждоезичен филм; най-добър филм на фестивала Лондон 2025; изключителен актьор и актриса – Мария Каварджикова и Кръстю Лафазанов.
URL:https://www.baces.org/event/%d0%bd%d0%b5-%d0%b7%d0%b0%d1%82%d0%b2%d0%b0%d1%80%d1%8f%d0%b9-%d0%be%d1%87%d0%b8-%d0%ba%d0%b8%d0%bd%d0%be-%d0%bf%d1%80%d0%b5%d0%bc%d0%b8%d0%b5%d1%80%d0%b0-%d0%b2-%d0%bb%d0%be%d1%81/
LOCATION:LOOK Dine-In Cinema\, 8200 3rd Street\, Downey\, CA\, 90241\, United States
END:VEVENT
BEGIN:VEVENT
DTSTART;TZID=America/Los_Angeles:20250309T180000
DTEND;TZID=America/Los_Angeles:20250309T210000
DTSTAMP:20260419T222145
CREATED:20250301T012041Z
LAST-MODIFIED:20250301T012041Z
UID:763-1741543200-1741554000@www.baces.org
SUMMARY:Концерт на БТР
DESCRIPTION:Лос Анджелис е част от Околосветското турне на БТР по повод 30-годишнината на групата! \nБилети може да закупите тук.
URL:https://www.baces.org/event/%d0%ba%d0%be%d0%bd%d1%86%d0%b5%d1%80%d1%82-%d0%bd%d0%b0-%d0%b1%d1%82%d1%80/
LOCATION:Saint Rocke\, 142 Pacific Coast Hwy\, Hermosa Beach\, CA\, 90254\, United States
END:VEVENT
BEGIN:VEVENT
DTSTART;TZID=America/Los_Angeles:20250301T110000
DTEND;TZID=America/Los_Angeles:20250301T180000
DTSTAMP:20260419T222145
CREATED:20250301T005948Z
LAST-MODIFIED:20250301T005948Z
UID:755-1740826800-1740852000@www.baces.org
SUMMARY:"ЗЕМЯ НА ТРАДИЦИИ И ГЕРОИ"
DESCRIPTION:Българско училище “Св. св. Кирил и Методий” \nс генерален спонсор\nBulgarian-American Cultural Educational Society\nимат удоволствието да Ви поканят на тържествено честване на Националния празник на България – 3 март и Мартенски празници в Лос Анджелис \n \nФестивалът се провежда със съдействието на Генералното консулство на Република България в Лос Анджелис и с подкрепата на ПЧЕЛА. \nОчаквайте в богатата литературна и фолклорно-музикална програма – един пъстър калейдоскоп от багри\, звуци и ритми\, песни и танци\, работилници за мартеници\, кукерски маски\, тракийски медальони\, мартенски базари и традиционна българска храна. Ще пеем\, танцуваме\, творим и ще се веселим заедно! \nИ за да е още по-весело\, българското училище заедно с Хоротропци и Продуцентска къща “Хитър Петър” организират училище за народни танци с Константин Маринов – Коцето от Чикаго. Елате всички заедно да се хванем на хорото и да научим нещо ново. \nЗапазете датата в календара си и не забравяйте да поканите близки и приятели\, за да се повеселим и превърнем заедно 1-март в Ден на България. Повече информация може да получите тук.
URL:https://www.baces.org/event/%d0%b7%d0%b5%d0%bc%d1%8f-%d0%bd%d0%b0-%d1%82%d1%80%d0%b0%d0%b4%d0%b8%d1%86%d0%b8%d0%b8-%d0%b8-%d0%b3%d0%b5%d1%80%d0%be%d0%b8/
LOCATION:Veterans Memorial Park\, 4117 Overland Ave\, Culver City\, CA\, 90230\, United States
END:VEVENT
BEGIN:VEVENT
DTSTART;TZID=America/Los_Angeles:20241221T180000
DTEND;TZID=America/Los_Angeles:20241221T210000
DTSTAMP:20260419T222145
CREATED:20241204T004325Z
LAST-MODIFIED:20241204T004325Z
UID:689-1734804000-1734814800@www.baces.org
SUMMARY:Jazz Concert: Wladigeroff Brothers and Friends
DESCRIPTION:Come and enjoy a special evening with incredible jazz music in the beautiful Bel Air Pres.\nAlexander Wladigeroff- trumpet\, flugelhorn. Konstantin Wladigeroff- keys\, clarinet.Special guests: Kendall Kay – drums.Ken Wild – bass.\n\nMeet the world renowned twin brothers: Alexander and Konstantin Wladigeroff\, sons of Alexander Wladigeroff\, a renowned composer and conductor; and grandsons of Pancho Wladigeroff\, the most influential Bulgarian composer of all times. Alexander and Konstantin are vibrant musicians\, with warm personalities and innate ability to move you with their performance!\n\nThey will be joined by the great LA based jazz musicians – the bass player\, Ken Wild and the drummer\, Kendall Kay\, who are very busy and popular on the musical stage.
URL:https://www.baces.org/event/jazz-concert-wladigeroff-brothers-and-friends/
LOCATION:Bel Air Presbyterian\, 16221 MULHOLLAND DRIVE\, Los Angeles\, CA\, 90049\, United States
END:VEVENT
BEGIN:VEVENT
DTSTART;TZID=America/Los_Angeles:20241214T150000
DTEND;TZID=America/Los_Angeles:20241214T180000
DTSTAMP:20260419T222145
CREATED:20241201T030151Z
LAST-MODIFIED:20241201T030151Z
UID:673-1734188400-1734199200@www.baces.org
SUMMARY:"Gundi - A Legend of Love"
DESCRIPTION:Bulgarian Education and Culture Society “Pchela” presents a second screening of the movie “Gundi – A Legend of Love”\, a feature film dedicated to the great and beloved footballer from the past\, Georgi Asparuhov – Gundi. \n \n“Gundi – A Legend of Love” follows the life of this great athlete\, from his meeting with Velichka Markova – Lita\, to the tragic day of June 30\, 1971. The script is based on untold stories from the personal life of Georgi Asparuhov and his greatest love – his wife Lita. Together\, they navigate numerous trials in life\, football\, and the system\, but remain together until the very end. The screen will also bring to life some of Gundi’s legendary matches\, thanks to hundreds of special effects used in the film.
URL:https://www.baces.org/event/gundi-a-legend-of-love/
LOCATION:Look Dine-in Cinemas\, 8200 3rd Street\, Downey\, CA\, 90241\, United States
END:VEVENT
BEGIN:VEVENT
DTSTART;TZID=America/Los_Angeles:20241208T110000
DTEND;TZID=America/Los_Angeles:20241208T150000
DTSTAMP:20260419T222145
CREATED:20241201T024945Z
LAST-MODIFIED:20241201T024945Z
UID:667-1733655600-1733670000@www.baces.org
SUMMARY:Коледно Тържество "Подари Ми Чудо"
DESCRIPTION:Учениците\, учителите на БУ „Св. св. Кирил и Методий“ Лос Анджелис и филиал Футхил\, Ориндж Каунти и БАКОФ / BACEF имат удоволствието да Ви поканят на ежегодното сиколедно тържество \,\,ПОДАРИ МИ ЧУДО”. \nКоледа е времето\, когато се събираме заедно с близки и приятели и се сбъдват мечтите. Коледа е празник на любовта и чудесата. \nЩе си припомним обичаи и наричания за здраве\, късмет и берекет\, ще ни омаят отново българските песни и танци. И разбира ще се насладим на традиционни и вкусни празнични ястия. Любимият Дядо Коледа ще зарадва всички малки и големи послушковци с чудни подаръци. \nЗаповядайте и позволете на чудото\, наречено Коледа да влезе в сърцата ни!
URL:https://www.baces.org/event/%d0%ba%d0%be%d0%bb%d0%b5%d0%b4%d0%bd%d0%be-%d1%82%d1%8a%d1%80%d0%b6%d0%b5%d1%81%d1%82%d0%b2%d0%be-%d0%bf%d0%be%d0%b4%d0%b0%d1%80%d0%b8-%d0%bc%d0%b8-%d1%87%d1%83%d0%b4%d0%be/
LOCATION:Veterans Memorial Park\, 4117 Overland Ave\, Culver City\, CA\, 90230\, United States
END:VEVENT
BEGIN:VEVENT
DTSTART;TZID=America/Los_Angeles:20241206T190000
DTEND;TZID=America/Los_Angeles:20241207T013000
DTSTAMP:20260419T222145
CREATED:20241201T023107Z
LAST-MODIFIED:20241201T025253Z
UID:659-1733511600-1733535000@www.baces.org
SUMMARY:80's & 90's FLASHBACK PARTY
DESCRIPTION:BACES Presents 80’s & 90’s FLASHBACK PARTY and everyone is invited.\n \n \nDon’t miss this chance to get your groove on and kick off the holiday season reliving the best decades ever.  You can expect: \n\nA Night of Fun\, Laughter\, and Nostalgia\nSpecial Hour Drinks & Tasty Bites\nYour Favorite 80’s & 90’s Jams\nFundraising Opportunities\nFREE ADMISSION\n\nGrab your friends and come ready to dance like it’s 1999! We look forward to seeing you there!
URL:https://www.baces.org/event/80s-90s-flashback-party/
LOCATION:The Virgil\, 4519 Santa Monica Blvd\, Los Angeles\, CA\, 90029\, United States
END:VEVENT
BEGIN:VEVENT
DTSTART;TZID=America/Los_Angeles:20240928T130000
DTEND;TZID=America/Los_Angeles:20240928T190000
DTSTAMP:20260419T222145
CREATED:20240927T225119Z
LAST-MODIFIED:20240927T225119Z
UID:649-1727528400-1727550000@www.baces.org
SUMMARY:BACES End of Summer Party
DESCRIPTION:The BACES Events Committee is inviting everyone to the BACES End of Summer Party on Saturday\, September 28\, 2024\, at 1:00pm. Bring your family and friends.  \nAlso\, bring your own umbrella for shade and don’t forget chairs to relax in comfort. If you plan to stay late\, pack a jacket for when it cools down. \nWe look forward to seeing you all there!
URL:https://www.baces.org/event/baces-end-of-summer-party/
LOCATION:Dockweiler Beach\, 12000 Vista Del Mar\, Playa Del Rey\, CA\, 90293\, United States
END:VEVENT
BEGIN:VEVENT
DTSTART;TZID=America/Los_Angeles:20240622T133000
DTEND;TZID=America/Los_Angeles:20240622T160000
DTSTAMP:20260419T222145
CREATED:20240601T054942Z
LAST-MODIFIED:20240606T012358Z
UID:572-1719063000-1719072000@www.baces.org
SUMMARY:2024 BACES Annual Meeting
DESCRIPTION:Dear Member\, \nThe BACES Board of Directors has the pleasure to invite you on June 22\, 2024\, at 1:30 pm PDT to our annual meeting. \nFor those members who are unable to join the meeting in person\, there will be an online option via Zoom. \nSincerely\, \nBACES BOD
URL:https://www.baces.org/event/2024-baces-annual-meeting/
LOCATION:Veterans Memorial Park\, 4117 Overland Ave\, Culver City\, CA\, 90230\, United States
ATTACH;FMTTYPE=image/png:https://www.baces.org/wp-content/uploads/2024/04/cropped-android-chrome-512x512-1.png
ORGANIZER;CN="BACES":MAILTO:contact@baces.org
END:VEVENT
BEGIN:VEVENT
DTSTART;TZID=America/Los_Angeles:20240505T120000
DTEND;TZID=America/Los_Angeles:20240505T160000
DTSTAMP:20260419T222145
CREATED:20240411T054349Z
LAST-MODIFIED:20240417T080353Z
UID:233-1714910400-1714924800@www.baces.org
SUMMARY:Събор за Великден и Гергьовден / Celebration of Orthodox Easter and Gergyovden (St. George's Day)
DESCRIPTION:🇧🇬Заповядайте на 5 май (неделя) да отпразнуваме заедно Великден и Гергьовден\, които тази година са събрани през ден! Заповядайте за началото в 12 часа и останете до 16 часа за забавления\, традиционни обичаи и вкусна храна. Място: Cheviot Hills Park\, Picnic Area #1\, 2551 Motor Ave.\, Los Angeles\, CA 90064 \n\n\nСъборът се организира съвместно с българската православна църква “Св. Георги” в Лос Анджелис. \n\n🇺🇸You are invited on May 5 (Sunday) for a community celebration of Orthodox Easter and Gergyovden\, which are one day apart this year! Please come at noon and stay until 4 pm for entertainment\, traditions and customs\, and tasty food. Location: Cheviot Hills Park\, Picnic Area #1\, 2551 Motor Ave.\, Los Angeles\, CA 90064 \n\n\n\nThis event is organized jointly with “St. George” Bulgarian Orthodox Church in Los Angeles.\n\n\n\n\n\n 
URL:https://www.baces.org/event/%d1%81%d1%8a%d0%b1%d0%be%d1%80-%d0%b7%d0%b0-%d0%b2%d0%b5%d0%bb%d0%b8%d0%ba%d0%b4%d0%b5%d0%bd-%d0%b8-%d0%b3%d0%b5%d1%80%d0%b3%d1%8c%d0%be%d0%b2%d0%b4%d0%b5%d0%bd/
LOCATION:Cheviot Hills Park\, 2551 Motor Ave\, Los Angeles\, CA\, 90064
ATTACH;FMTTYPE=image/jpeg:https://www.baces.org/wp-content/uploads/2024/04/sabor052024.jpg
END:VEVENT
END:VCALENDAR